BEGIN:VCALENDAR
VERSION:2.0
PRODID:-//eventon.com NONSGML v1.0//EN
BEGIN:VEVENT
UID:69e73147f3024
DTSTAMP:20260421T101151
DTSTART:20260505T173000Z
DTEND:20260505T190000Z
TZID:Europe/London
LOCATION:Zweifachsporthalle (kleine Sporthalle) Kirburger Straße\,  Bad Marienberg
SUMMARY:Linedance
DESCRIPTION: Linedance ist ein Tanz aus Amerika\,  der auf der ganzen Welt getanzt wird und sich immer größerer Beliebtheit erfreut. Getanzt wird überwiegend alleine\,  aber gerne in größeren Gruppen. Linedance ist eine festgeschriebene Choreografie\,  die sich leicht erlernen lässt und jeder Altersgruppe gerecht wird. Von sehr leichten Anfängertänzen bis hin zur[..]
URL:https://vhs-bad-marienberg.de/events/linedance/var/ri-9.l-L1
END:VEVENT
END:VCALENDAR