BEGIN:VCALENDAR
VERSION:2.0
PRODID:-//eventon.com NONSGML v1.0//EN
BEGIN:VEVENT
UID:69e769ba55ae6
DTSTAMP:20260421T141242
DTSTART:20260207T140000Z
DTEND:20260207T170000Z
TZID:Europe/London
LOCATION:Realschule plus\,  5.02 Erlenweg 3\,  56470 Bad Marienberg
SUMMARY:Creative Writing
DESCRIPTION: Ziel des Kurses ist es\,  den Teilnehmer*innen die Fähigkeit zu vermitteln\,  eigenständig ein Buch zu schreiben. Nach den Grundlagen (Arbeit des Autors\,  Überblick über das Verlagswesen\,  Vermarktung eines Buches) steht die Textarbeit im Vordergrund. Dabei geht es unter anderem um &#8211; den gelungenen Handlungsentwurf &#8211; die Figurenentwicklung &#8211; den richtigen[..]
URL:https://vhs-bad-marienberg.de/events/creative-writing-3/
END:VEVENT
END:VCALENDAR