BEGIN:VCALENDAR
VERSION:2.0
PRODID:-//eventon.com NONSGML v1.0//EN
BEGIN:VEVENT
UID:69e732b71a004
DTSTAMP:20260421T101759
DTSTART:20260613T153000Z
DTEND:20260613T183000Z
TZID:Europe/London
LOCATION:Realschule plus\,  Küche in Gebäude 8 
SUMMARY:Kochen nach Farben
DESCRIPTION: Jetzt wird‘s bunt! Kochen nach Farben bedeutet\,  sich bei der Kreation der Gericht in einer abgesteckten Farbwelt zu bewegen. Minimale Abweichungen sind erlaubt. Alle Gerichte sich vegetarisch oder vegan. Freuen Sie sich auf einen kunterbunten\,  leckeren Abend. Anmeldung erforderlich. Bitte mitbringen: Getränke\,  gute Laune\,  evtl. ein eigenes Messer und Dosen[..]
URL:https://vhs-bad-marienberg.de/events/kochen-nach-farben/
END:VEVENT
END:VCALENDAR