BEGIN:VCALENDAR
VERSION:2.0
PRODID:-//eventon.com NONSGML v1.0//EN
BEGIN:VEVENT
UID:69e4d7a03dc3b
DTSTAMP:20260419T152448
DTSTART:20260429T170000Z
DTEND:20260429T174500Z
TZID:Europe/London
LOCATION:Gymnastikhalle\,  Erlenweg\,  Bad Marienberg 
SUMMARY:Pilates II
DESCRIPTION: Pilates ist ein ganzheitliches sanftes Körpertraining\,  in dem vor allem die tief liegenden\,  kleinen aber meist schwächeren Muskeln angesprochen werden\,  die für eine korrekte und gesunde Körperhaltung sorgen. Primär werden die Bauch-\,  Beckenboden- und Rückenmuskeln gekräftigt. Anmeldung erforderlich.  Für die Pilates-und Funktionsgymnastik-Kurse bitte Hallenturnschuhe\,  Handtuch\,  eigene Matte\,  bequeme Kleidung und[..]
URL:https://vhs-bad-marienberg.de/events/pilates-ii-4/var/ri-2.l-L1
END:VEVENT
END:VCALENDAR