BEGIN:VCALENDAR
VERSION:2.0
PRODID:-//eventon.com NONSGML v1.0//EN
BEGIN:VEVENT
UID:69e731b182e13
DTSTAMP:20260421T101337
DTSTART:20260425T153000Z
DTEND:20260425T183000Z
TZID:Europe/London
LOCATION:Realschule plus\,  Küche in Gebäude 8 
SUMMARY:Mit leichter Frühlingsküche die Sinne wecken
DESCRIPTION: Mit dem Frühling kommt wieder der Appetit auf leichte\,  gesunde und frische Gerichte. Wir kochen mit Leichtigkeit und Raffinesse ein leckeres vegetarisches Menü. Mit frischem Gemüse\,  Obst und Kräutern der Saison feiern wir den Frühling und zaubern schnelle Frühlingsgerichte auf den Tisch. Anmeldung erforderlich. Bitte mitbringen: Getränke\,  gute Laune\,  evtl. ein[..]
URL:https://vhs-bad-marienberg.de/events/fruehlingskueche/
END:VEVENT
END:VCALENDAR