BEGIN:VCALENDAR
VERSION:2.0
PRODID:-//eventon.com NONSGML v1.0//EN
BEGIN:VEVENT
UID:69e7311427d15
DTSTAMP:20260421T101100
DTSTART:20260610T180000Z
DTEND:20260610T200000Z
TZID:Europe/London
LOCATION:Evangelisches Gymnasium Marienberg Erlenweg 5\,  56470 Bad Marienberg
SUMMARY:Töpfern – Kreatives Arbeiten mit Ton
DESCRIPTION: Der Kurs eignet sich für Anfänger sowie Fortgeschrittene. Er vermittelt die handwerklichen\,  technischen und gestalterischen Grundlagen für keramische Arbeiten\,  Kenntnisse über das Material Ton\,  Ausdrücken von Hohlformen\,  Aufbau mit Tonwülsten\,  mit Platten\,  sowie die Herstellung der Glasuren und Engoben. Ziel ist es\,  die Freude am Werkstoff Ton zu fördern und[..]
URL:https://vhs-bad-marienberg.de/events/toepfern-kreatives-arbeiten-mit-ton-5/var/ri-9.l-L1
END:VEVENT
END:VCALENDAR