BEGIN:VCALENDAR
VERSION:2.0
PRODID:-//eventon.com NONSGML v1.0//EN
BEGIN:VEVENT
UID:69e4f1e296c08
DTSTAMP:20260419T171650
DTSTART:20250322T180000Z
DTEND:20250322T200000Z
TZID:Europe/London
LOCATION:
SUMMARY:Großer Masuren-Nachmittag: Experten entführen ins Traumland Masuren – Naturparadies im Nordosten Polens
DESCRIPTION: Vortrag\,  Märchen und masurische Teepause am 22.03.2025 Masuren\,  das Land der hügeligen Weiten\,  der tiefen Wälder und der glasklaren Seen\,  aber auch das Land\,  das europaweit eine der größten Dichten an Artenvielfalt – von Elch bis Wiedehopf\,  von Bienenfresser bis Schreiadler\,  von Pirol bis Seggenrohrsänger – aufzuweisen hat\,  steht im[..]
URL:https://vhs-bad-marienberg.de/events/auf-ins-traumland-masuren/
END:VEVENT
END:VCALENDAR