BEGIN:VCALENDAR
VERSION:2.0
PRODID:-//eventon.com NONSGML v1.0//EN
BEGIN:VEVENT
UID:69e9e0c0ca3b4
DTSTAMP:20260423T110504
DTSTART:20250910T170000Z
DTEND:20250910T190000Z
TZID:Europe/London
LOCATION:Realschule plus\,  Küche in Gebäude 8 
SUMMARY:Klimafreundliches Kochen: Saisonale Herbstküche – gesund\,  lecker\,  nachhaltig
DESCRIPTION: Zusammen mit den Klimaschutzmanagements der VG Bad Marienberg und des Westerwaldkreises laden die Volkshochschulen von Bad Marienberg und des Westerwaldkreises zu einem besonderen Kochkurs ein. Ob Kürbis\,  Äpfel\,  Wurzelgemüse oder Kohl – die Teilnehmenden erfahren\,  wie sie frischeProdukte aus der Region sinnvoll in ihre Herbstküche integrieren können. Der Kurs legt[..]
URL:https://vhs-bad-marienberg.de/events/klimafreundliches-kochen/
END:VEVENT
END:VCALENDAR