BEGIN:VCALENDAR
VERSION:2.0
PRODID:-//eventon.com NONSGML v1.0//EN
BEGIN:VEVENT
UID:69e76bc74122a
DTSTAMP:20260421T142127
DTSTART:20240917T173000Z
DTEND:20240917T190000Z
TZID:Europe/London
LOCATION:Zweifachsporthalle (kleine Sporthalle) Kirburger Straße\,  Bad Marienberg
SUMMARY:Engpassdehnung und Faszienrollmassage nach der Liebscher & Bracht Methode
DESCRIPTION: Kennenlernen und Anwenden der Liebscher & Bracht Methode zur Prävention von Schmerzen am Bewegungsapparat. Durch gezieltes Dehnen und Rollen der Muskeln und Faszien erzielt der Teilnehmer ein neues Lebensgefühl und steigert die Beweglichkeit im Alltag\,  Beruf und Sport. Anmeldung erforderlich. Maximal 12 Teilnehmer.  Mitzubringen sind Sportschuhe\,  Sportkleidung\,  Handtuch\,  Fitnessmatte\,  Blackroll[..]
URL:https://vhs-bad-marienberg.de/events/engpassdehnung-und-faszienrollmassage-nach-der-liebscher-bracht-methode/
END:VEVENT
END:VCALENDAR