BEGIN:VCALENDAR
VERSION:2.0
PRODID:-//eventon.com NONSGML v1.0//EN
BEGIN:VEVENT
UID:69e757062fe00
DTSTAMP:20260421T125254
DTSTART:20231012T170000Z
DTEND:20231012T183000Z
TZID:Europe/London
LOCATION:Realschule plus\,  Küche in Gebäude 8 
SUMMARY:Lebensmittel: Zurück zu den Wurzeln
DESCRIPTION: Ganz nach dem Motto „Back to the roots“ geht‘s hier ans Eingemachte. Im Oktober ist Erntedankfest\,  viele Obst- und Gemüsesorten haben im Herbst in unserer Region Hochsaison. Im Supermarkt hingegen spielt die Saisonalität kaum eine Rolle. Dort wird die Ware je nach Jahreszeit gerne auch importiert oder sie stammt aus[..]
URL:https://vhs-bad-marienberg.de/events/lebensmittel-zurueck-zu-den-wurzeln/
END:VEVENT
END:VCALENDAR