BEGIN:VCALENDAR
VERSION:2.0
PRODID:-//eventon.com NONSGML v1.0//EN
BEGIN:VEVENT
UID:69e76a23be8ff
DTSTAMP:20260421T141427
DTSTART:20231108T180000Z
DTEND:20231108T193000Z
TZID:Europe/London
LOCATION:Großer Sitzungssaal Kirburger Straße
SUMMARY:20 Prozent weniger Heizenergie - mindestens! Einsparpotenzial erkennen und nutzen
DESCRIPTION: Die gemeinsame Kampagne der VHS Bad Marienberg mit der Verbraucherzentrale Rheinland-Pfalz gibt hilfreiche Alltags-Tipps vom Erkennen versteckter Stromfresser im Haushalt bis zur Stromproduktion mit Photovoltaikanlagen auf Dach oder Balkon. Ziel ist es\,  den Verbraucher:innen fundierte Ideen an die Hand zu geben\,  wie der Energieverbrauch im eigenen Haushalt um 20 Prozent[..]
URL:https://vhs-bad-marienberg.de/events/20-prozent-weniger-heizenergie-mindestens-einsparpotenzial-erkennen-und-nutzen-2/
END:VEVENT
END:VCALENDAR