BEGIN:VCALENDAR
VERSION:2.0
PRODID:-//eventon.com NONSGML v1.0//EN
BEGIN:VEVENT
UID:69e769a458229
DTSTAMP:20260421T141220
DTSTART:20230218T090000Z
DTEND:20230218T120000Z
TZID:Europe/London
LOCATION:Zweifachsporthalle (kleine Sporthalle) Kirburger Straße\,  Bad Marienberg
SUMMARY:Life Kinetik Workshop
DESCRIPTION: Life Kinetik\,  das spielerische Gehirntraining für Jung und Alt. In diesem Workshop werden Sie die Vorzüge des Life Kinetik Trainings kennenlernen. Life Kinetik steigert die Konzentration\,  Aufmerksamkeit\,  Koordination\,  Handlungsschnelligkeit und Kreativität im Alltag\,  Beruf und im Sport. Im Workshop erwarten Sie spaßige und interessante Übungen für Zuhause mit Einblicke und Anregungen des Gehirntrainings. Der Workshop[..]
URL:https://vhs-bad-marienberg.de/events/life-kinetik-workshop/
END:VEVENT
END:VCALENDAR