BEGIN:VCALENDAR
VERSION:2.0
PRODID:-//eventon.com NONSGML v1.0//EN
BEGIN:VEVENT
UID:69e7572744fa6
DTSTAMP:20260421T125327
DTSTART:20230419T173000Z
DTEND:20230419T193000Z
TZID:Europe/London
LOCATION:MSM-Fotostudio Am Mühlrain 1
SUMMARY:Foto-Workshop "Light Painting – Malen mit Licht"
DESCRIPTION: Malen mit Licht in der Dunkelheit ist eine hochinteressante Technik\,  die immer mehr Hobby-Fotografen für sich entdecken. Die fast magischen Bilder entstehen durch lange Belichtungszeiten mit der Fotokamera und das Bewegen von Leuchten. Lernen Sie das „Malen mit Licht“. An den Abenden gibt es zunächst eine Einführung in die Technik[..]
URL:https://vhs-bad-marienberg.de/events/foto-workshop-light-painting-malen-mit-licht-2/
END:VEVENT
END:VCALENDAR