BEGIN:VCALENDAR
VERSION:2.0
PRODID:-//eventon.com NONSGML v1.0//EN
BEGIN:VEVENT
UID:69e74435e2a20
DTSTAMP:20260421T113237
DTSTART:20220906T173000Z
DTEND:20220906T190000Z
TZID:Europe/London
LOCATION:Wolfsteinschule (Grundschule)\,  Computerlabor Erlenweg 2\,  56470 Bad Marienberg
SUMMARY:Foto-Workshop "Light Painting – Malen mit Licht"
DESCRIPTION: Malen mit Licht in der Dunkelheit ist eine hochinteressante Technik\,  die immer mehr Hobby-Fotografen für sich entdecken. Die fast magischen Bilder entstehen durch lange Belichtungszeiten mit der Fotokamera und das Bewegen von Leuchten. Lernen Sie das „Malen mit Licht“. An den Abenden gibt es zunächst eine Einführung in die Technik[..]
URL:https://vhs-bad-marienberg.de/events/foto-workshop-light-painting-malen-mit-licht/
END:VEVENT
END:VCALENDAR