BEGIN:VCALENDAR
VERSION:2.0
PRODID:-//eventon.com NONSGML v1.0//EN
BEGIN:VEVENT
UID:69e9e02f97adf
DTSTAMP:20260423T110239
DTSTART:20230222T180000Z
DTEND:20230222T193000Z
TZID:Europe/London
LOCATION:Großer Sitzungssaal Kirburger Straße
SUMMARY:Klimaschutz in den Kommunen:  Was macht ein/e Klimaschutzmanager*in
DESCRIPTION: Die regionalen Auswirkungen des Klimawandels sind bereits im Westerwald zu spüren. Um dagegen vorzugehen\,  will Deutschland bis 2045 klimaneutral werden. Wichtige Akteure in diesem Prozess sind die Kommunen. Innerhalb der Verwaltung übernehmen die Klimaschutzmanager*innen eine verbindende Rolle zwischen Politik\,  Wirtschaft und Zivilgesellschaft. Das Aufgabengebiet ist sehr vielfältig und bezieht die[..]
URL:https://vhs-bad-marienberg.de/events/klimaschutz-in-den-kommunen-was-macht-ein-e-klimaschutzmanagerin/
END:VEVENT
END:VCALENDAR