BEGIN:VCALENDAR
VERSION:2.0
PRODID:-//eventon.com NONSGML v1.0//EN
BEGIN:VEVENT
UID:69e769cec0bbc
DTSTAMP:20260421T141302
DTSTART:20260207T180000Z
DTEND:20260207T210000Z
TZID:Europe/London
LOCATION:Realschule plus\,  Küche in Gebäude 8 
SUMMARY:Klimafreundlich Kochen: Saisonale Küche – gesund\,  lecker und nachhaltig
DESCRIPTION: Zusammen mit den Klimaschutzmanagements der VG Bad Marienberg und des Westerwaldkreises planen die Volkshochschulen von Bad Marienberg und des Westerwaldkreises wieder einen besonderen Kochkurs.  Kommen Sie vorbei und entdecken Sie\,  wie einfach und inspirierend es ist\,  klimafreundlich und genussvoll zu kochen! ACHTUNG! Termin: wird noch festgelegt Anmeldung erforderlich. Keine Kursgebühr. Gemeinsames[..]
URL:https://vhs-bad-marienberg.de/events/klimafreundlich-kochen-gesund-lecker-und-nachhaltig/
END:VEVENT
END:VCALENDAR