BEGIN:VCALENDAR
VERSION:2.0
PRODID:-//eventon.com NONSGML v1.0//EN
BEGIN:VEVENT
UID:69e752985b6fb
DTSTAMP:20260421T123400
DTSTART:20220410T100000Z
DTEND:20220410T130000Z
TZID:Europe/London
LOCATION:Realschule plus\,  Küche in Gebäude 8 
SUMMARY:Kochen mit der ganzen Familie
DESCRIPTION: Dieser Kurs richtet sich an Familien mit Kindern\,  die gemeinsam die vegane und vegetarische Küche kennenlernen wollen und evtl. neues dazulernen möchten\,  und die Spaß am gemeinsamen Kochen und Essen haben. Wir schnippeln\,  schälen\,  kochen\,  backen und lernen spielerisch die Lebensmittel kennen\,  die wir verarbeiten und mit denen wir tolle[..]
URL:https://vhs-bad-marienberg.de/events/kochen-mit-der-ganzen-familie/
END:VEVENT
END:VCALENDAR