BEGIN:VCALENDAR
VERSION:2.0
PRODID:-//eventon.com NONSGML v1.0//EN
BEGIN:VEVENT
UID:69e746ccb93d9
DTSTAMP:20260421T114340
DTSTART:20220302T183000Z
DTEND:20220302T200000Z
TZID:Europe/London
LOCATION:Wolfsteinschule (Grundschule)\,  Computerlabor Erlenweg 2\,  56470 Bad Marienberg
SUMMARY:Einführung in die Bildbearbeitung mit Photoshop Elements
DESCRIPTION: Machen Sie mehr aus Ihren digitalen Bildern! Professionell wirkende Bilder bedürfen immer einer Nachbearbeitung! Im Kurs erfahren Sie\,  wie Sie das Optimum aus Ihren Digitalfotos in Bezug auf Farben\,  Helligkeit\,  Kontrast\,  Schärfe\,  Rote Augen\,  Teilausschnitt des Bildes etc. herausholen. Setzen Sie Effekte wie die Profis ein.  Zum Lernprogramm gehören die Beurteilung[..]
URL:https://vhs-bad-marienberg.de/events/einfuehrung-in-die-bildbearbeitung-mit-photoshop-elements/
END:VEVENT
END:VCALENDAR