BEGIN:VCALENDAR
VERSION:2.0
PRODID:-//eventon.com NONSGML v1.0//EN
BEGIN:VEVENT
UID:69e9e06e1c1aa
DTSTAMP:20260423T110342
DTSTART:20230909T130000Z
DTEND:20230909T160000Z
TZID:Europe/London
LOCATION:Realschule plus\,  5.02 Erlenweg 3\,  56470 Bad Marienberg
SUMMARY:Creative Writing
DESCRIPTION: Ziel des Kurses ist es\,  den Teilnehmer*innen die Fähigkeit zu vermitteln\,  eigenständig ein Buch zu schreiben. Nach den Grundlagen (Arbeit des Autors\,  Überblick über das Verlagswesen\,  Vermarktung eines Buches) steht die Textarbeit im Vordergrund. Dabei geht es unter anderem um &#8211; den gelungenen Handlungsentwurf &#8211; die Figurenentwicklung &#8211; den richtigen[..]
URL:https://vhs-bad-marienberg.de/events/creative-writing/
END:VEVENT
END:VCALENDAR