BEGIN:VCALENDAR
VERSION:2.0
PRODID:-//eventon.com NONSGML v1.0//EN
BEGIN:VEVENT
UID:69e75706305b7
DTSTAMP:20260421T125254
DTSTART:20210412T150000Z
DTEND:20210412T163000Z
TZID:Europe/London
LOCATION:Zweifachsporthalle (kleine Sporthalle) Kirburger Straße\,  Bad Marienberg
SUMMARY:Fit und Spaß mit „Life Kinetik“ und Fitnesstraining
DESCRIPTION: Dieser Kurs richtet sich an Kinder von 9 – 14 Jahren. Kombination aus Fitnesstraining und „Life Kinetik“ zur Förderung der Kreativität\,  Freude an Bewegung\,  Steigerung der Lernbereitschaft\,  Verbesserung der Auge-Hand und Auge-Bein Koordination und Förderung der Konzentration. Life Kinetik stärkt und fördert die Gehirn-Leistung und -Gesundheit Das erreicht die Life[..]
URL:https://vhs-bad-marienberg.de/events/fit-und-spass-mit-life-kinetik-und-fitnesstraining/
END:VEVENT
END:VCALENDAR