BEGIN:VCALENDAR
VERSION:2.0
PRODID:-//eventon.com NONSGML v1.0//EN
BEGIN:VEVENT
UID:69e9f0c54808c
DTSTAMP:20260423T121325
DTSTART:20221107T183000Z
DTEND:20221107T200000Z
TZID:Europe/London
LOCATION:Wolfsteinschule (Grundschule)\,  Computerlabor Erlenweg 2\,  56470 Bad Marienberg
SUMMARY:Fotografie: Gestalten Sie ihr eigenes Fotobuch
DESCRIPTION: In dem Kurs erfahren Sie\,  wie Sie mit der CEWE-Fotobuch-Software auf einfache Weise ein eigenes Fotobuch erstellen können. Sie erhalten Informationen zu Papieren\,  Formaten und Prägungen. Im Kurs werden Sie mit Ihren eigenen Fotos ein neues Fotobuch erstellen. In praktischen Übungen lernen Sie Fotos und Texte richtig zu platzieren und[..]
URL:https://vhs-bad-marienberg.de/events/fotografie-gestalten-sie-ihr-eigenes-fotobuch/
END:VEVENT
END:VCALENDAR