BEGIN:VCALENDAR
VERSION:2.0
PRODID:-//eventon.com NONSGML v1.0//EN
BEGIN:VEVENT
UID:69e7607737bea
DTSTAMP:20260421T133311
DTSTART:20210909T173000Z
DTEND:20210909T193000Z
TZID:Europe/London
LOCATION:Realschule plus\,  Gebäude 10 Erlenweg 3\,  56470 Bad Marienberg
SUMMARY:Kreatives Nähen für Fortgeschrittene
DESCRIPTION: „Kreatives Nähen mit Anni“ was ist das genau&#8230;? Gemeinsam schöne Projekte zu erarbeiten\,  diese stolz zu tragen oder jemandem eine Freude zu machen. Tipps und Tricks zu erfahren und sie später auch zu Hause eigenhändig umsetzen zu können. Hier ist jeder willkommen\,  ob männlich\,  weiblich oder divers\,  ob jung oder[..]
URL:https://vhs-bad-marienberg.de/events/kreatives-naehen-fuer-fortgeschrittene/
END:VEVENT
END:VCALENDAR