BEGIN:VCALENDAR
VERSION:2.0
PRODID:-//eventon.com NONSGML v1.0//EN
BEGIN:VEVENT
UID:69e7603467dc2
DTSTAMP:20260421T133204
DTSTART:20210508T090000Z
DTEND:20210508T150000Z
TZID:Europe/London
LOCATION:Realschule plus\,  Gebäude 8\,  Werkraum Erlenweg 3\,  56470 Bad Marienberg
SUMMARY:Gestaltungen in Ton: Das Portrait – Spiegel deiner Stimmung
DESCRIPTION: Wir modellieren mit Ton ein Portrait\,  lernen dabei den anatomischen Aufbau des Kopfes kennen und lassen uns von der eigenen Stimmung leiten. Die Portraits werden zunächst vollplastisch aufgebaut und ca. 1\, 5 Stunden vor Kursende ausgehöhlt. Vorkenntnisse sind nicht erforderlich.  In Absprache wird es einen zusätzlichen Abholtermin für die gebrannten Werke[..]
URL:https://vhs-bad-marienberg.de/events/gestaltungen-in-ton-das-portrait-spiegel-deiner-stimmung/
END:VEVENT
END:VCALENDAR