BEGIN:VCALENDAR
VERSION:2.0
PRODID:-//eventon.com NONSGML v1.0//EN
BEGIN:VEVENT
UID:69e7602e011f9
DTSTAMP:20260421T133158
DTSTART:20210417T090000Z
DTEND:20210417T150000Z
TZID:Europe/London
LOCATION:Realschule plus\,  Gebäude 8\,  Werkraum Erlenweg 3\,  56470 Bad Marienberg
SUMMARY:Gestaltungen in Ton: Die Körperhaltung des Menschen als Ausdruck der Gefühle
DESCRIPTION: In Ton können Sie menschliche Figuren nach Ihrer Stimmung naturalistisch oder eher abstrakt gestalten. Neben den anatomischen Grundlagen lernen Sie in diesem Kurs den plastischen Formaufbau solcher Skulpturen kennen und bereiten Ihr Werk für den Brand selbst vor. Vorkenntnisse sind nicht erforderlich. In Absprache wird es einen Abholtermin für die[..]
URL:https://vhs-bad-marienberg.de/events/gestaltungen-in-ton-die-koerperhaltung-des-menschen-als-ausdruck-der-gefuehle/
END:VEVENT
END:VCALENDAR